BEGIN:VCALENDAR
VERSION:2.0
PRODID:-//Schuetzengesellschaft Buer//NONSGML kigkonsult.se iCalcreator 2.41.92//
CALSCALE:GREGORIAN
METHOD:PUBLISH
UID:61366130-3131-4232-b931-323335653437
X-WR-CALNAME:iCagenda
X-WR-CALDESC:Event Management Extension for Joomla!
X-WR-RELCALID:3E26604A-50F4-4449-8B3E-E4F4932D05B5
X-WR-TIMEZONE:UTC
BEGIN:VTIMEZONE
TZID:UTC
END:VTIMEZONE
BEGIN:VEVENT
UID:32343130-6362-4662-a662-336137336462
DTSTAMP:20260422T143457Z
CATEGORIES:Anstehende Veranstaltung
CLASS:PUBLIC
DESCRIPTION:
DTSTART:20260509T000000Z
DTEND:20260509T000000Z
GEO:00;0
LOCATION:
ORGANIZER:
SEQUENCE:1
SUMMARY:Schützenfest Kerßenbrock-Küingdorf
TRANSP:OPAQUE
URL:https://www.schuetzengesellschaft-buer.de/anstehende-veranstaltung/206-
 schuetzenfest-kerssenbrock-kueingdorf/2026-05-09-00-00
END:VEVENT
END:VCALENDAR
