BEGIN:VCALENDAR
VERSION:2.0
PRODID:-//Schuetzengesellschaft Buer//NONSGML kigkonsult.se iCalcreator 2.41.92//
CALSCALE:GREGORIAN
METHOD:PUBLISH
UID:39366466-6436-4662-a230-386261333132
X-WR-CALNAME:iCagenda
X-WR-CALDESC:Event Management Extension for Joomla!
X-WR-RELCALID:3E26604A-50F4-4449-8B3E-E4F4932D05B5
X-WR-TIMEZONE:UTC
BEGIN:VTIMEZONE
TZID:UTC
END:VTIMEZONE
BEGIN:VEVENT
UID:33386264-3538-4238-b832-346438346239
DTSTAMP:20260421T074352Z
CATEGORIES:Anstehende Veranstaltung
CLASS:PUBLIC
DESCRIPTION:
DTSTART:20260313T000000Z
DTEND:20260313T000000Z
GEO:00;0
LOCATION:
ORGANIZER:
SEQUENCE:1
SUMMARY:Schützenhaus belegt
TRANSP:OPAQUE
URL:http://www.schuetzengesellschaft-buer.de/anstehende-veranstaltung/199-s
 chuetzenhaus-belegt-5
END:VEVENT
END:VCALENDAR
